BEGIN:VCALENDAR
VERSION:2.0
PRODID:-//First Christian Church Of Aransas Pass - ECPv6.15.16//NONSGML v1.0//EN
CALSCALE:GREGORIAN
METHOD:PUBLISH
X-WR-CALNAME:First Christian Church Of Aransas Pass
X-ORIGINAL-URL:https://www.fccofap.com
X-WR-CALDESC:Events for First Christian Church Of Aransas Pass
REFRESH-INTERVAL;VALUE=DURATION:PT1H
X-Robots-Tag:noindex
X-PUBLISHED-TTL:PT1H
BEGIN:VTIMEZONE
TZID:America/Chicago
BEGIN:DAYLIGHT
TZOFFSETFROM:-0600
TZOFFSETTO:-0500
TZNAME:CDT
DTSTART:20290311T080000
END:DAYLIGHT
BEGIN:STANDARD
TZOFFSETFROM:-0500
TZOFFSETTO:-0600
TZNAME:CST
DTSTART:20291104T070000
END:STANDARD
BEGIN:DAYLIGHT
TZOFFSETFROM:-0600
TZOFFSETTO:-0500
TZNAME:CDT
DTSTART:20300310T080000
END:DAYLIGHT
BEGIN:STANDARD
TZOFFSETFROM:-0500
TZOFFSETTO:-0600
TZNAME:CST
DTSTART:20301103T070000
END:STANDARD
BEGIN:DAYLIGHT
TZOFFSETFROM:-0600
TZOFFSETTO:-0500
TZNAME:CDT
DTSTART:20310309T080000
END:DAYLIGHT
BEGIN:STANDARD
TZOFFSETFROM:-0500
TZOFFSETTO:-0600
TZNAME:CST
DTSTART:20311102T070000
END:STANDARD
END:VTIMEZONE
BEGIN:VEVENT
DTSTART;TZID=America/Chicago:20300217T150000
DTEND;TZID=America/Chicago:20300217T163000
DTSTAMP:20260419T145503
CREATED:20250619T211010Z
LAST-MODIFIED:20250619T211010Z
UID:10001613-1897570800-1897576200@www.fccofap.com
SUMMARY:Spanish Language Service
DESCRIPTION:Ven y adora a Dios con oración\, alabanzas y cantos.
URL:https://www.fccofap.com/event/spanish-language-service/2030-02-17/
LOCATION:FCC AP\, 337 West Nelson\, AransasPass\, TX\, 78336\, United States
END:VEVENT
BEGIN:VEVENT
DTSTART;TZID=America/Chicago:20300224T150000
DTEND;TZID=America/Chicago:20300224T163000
DTSTAMP:20260419T145503
CREATED:20250619T211010Z
LAST-MODIFIED:20250619T211010Z
UID:10001614-1898175600-1898181000@www.fccofap.com
SUMMARY:Spanish Language Service
DESCRIPTION:Ven y adora a Dios con oración\, alabanzas y cantos.
URL:https://www.fccofap.com/event/spanish-language-service/2030-02-24/
LOCATION:FCC AP\, 337 West Nelson\, AransasPass\, TX\, 78336\, United States
END:VEVENT
BEGIN:VEVENT
DTSTART;TZID=America/Chicago:20300303T150000
DTEND;TZID=America/Chicago:20300303T163000
DTSTAMP:20260419T145503
CREATED:20250619T211010Z
LAST-MODIFIED:20250619T211010Z
UID:10001615-1898780400-1898785800@www.fccofap.com
SUMMARY:Spanish Language Service
DESCRIPTION:Ven y adora a Dios con oración\, alabanzas y cantos.
URL:https://www.fccofap.com/event/spanish-language-service/2030-03-03/
LOCATION:FCC AP\, 337 West Nelson\, AransasPass\, TX\, 78336\, United States
END:VEVENT
BEGIN:VEVENT
DTSTART;TZID=America/Chicago:20300310T150000
DTEND;TZID=America/Chicago:20300310T163000
DTSTAMP:20260419T145503
CREATED:20250619T211010Z
LAST-MODIFIED:20250619T211010Z
UID:10001616-1899385200-1899390600@www.fccofap.com
SUMMARY:Spanish Language Service
DESCRIPTION:Ven y adora a Dios con oración\, alabanzas y cantos.
URL:https://www.fccofap.com/event/spanish-language-service/2030-03-10/
LOCATION:FCC AP\, 337 West Nelson\, AransasPass\, TX\, 78336\, United States
END:VEVENT
BEGIN:VEVENT
DTSTART;TZID=America/Chicago:20300317T150000
DTEND;TZID=America/Chicago:20300317T163000
DTSTAMP:20260419T145503
CREATED:20250619T211010Z
LAST-MODIFIED:20250619T211010Z
UID:10001617-1899990000-1899995400@www.fccofap.com
SUMMARY:Spanish Language Service
DESCRIPTION:Ven y adora a Dios con oración\, alabanzas y cantos.
URL:https://www.fccofap.com/event/spanish-language-service/2030-03-17/
LOCATION:FCC AP\, 337 West Nelson\, AransasPass\, TX\, 78336\, United States
END:VEVENT
BEGIN:VEVENT
DTSTART;TZID=America/Chicago:20300324T150000
DTEND;TZID=America/Chicago:20300324T163000
DTSTAMP:20260419T145503
CREATED:20250619T211010Z
LAST-MODIFIED:20250619T211010Z
UID:10001618-1900594800-1900600200@www.fccofap.com
SUMMARY:Spanish Language Service
DESCRIPTION:Ven y adora a Dios con oración\, alabanzas y cantos.
URL:https://www.fccofap.com/event/spanish-language-service/2030-03-24/
LOCATION:FCC AP\, 337 West Nelson\, AransasPass\, TX\, 78336\, United States
END:VEVENT
BEGIN:VEVENT
DTSTART;TZID=America/Chicago:20300331T150000
DTEND;TZID=America/Chicago:20300331T163000
DTSTAMP:20260419T145503
CREATED:20250619T211010Z
LAST-MODIFIED:20250619T211010Z
UID:10001619-1901199600-1901205000@www.fccofap.com
SUMMARY:Spanish Language Service
DESCRIPTION:Ven y adora a Dios con oración\, alabanzas y cantos.
URL:https://www.fccofap.com/event/spanish-language-service/2030-03-31/
LOCATION:FCC AP\, 337 West Nelson\, AransasPass\, TX\, 78336\, United States
END:VEVENT
BEGIN:VEVENT
DTSTART;TZID=America/Chicago:20300407T150000
DTEND;TZID=America/Chicago:20300407T163000
DTSTAMP:20260419T145503
CREATED:20250619T211010Z
LAST-MODIFIED:20250619T211010Z
UID:10001620-1901804400-1901809800@www.fccofap.com
SUMMARY:Spanish Language Service
DESCRIPTION:Ven y adora a Dios con oración\, alabanzas y cantos.
URL:https://www.fccofap.com/event/spanish-language-service/2030-04-07/
LOCATION:FCC AP\, 337 West Nelson\, AransasPass\, TX\, 78336\, United States
END:VEVENT
BEGIN:VEVENT
DTSTART;TZID=America/Chicago:20300414T150000
DTEND;TZID=America/Chicago:20300414T163000
DTSTAMP:20260419T145503
CREATED:20250619T211010Z
LAST-MODIFIED:20250619T211010Z
UID:10001621-1902409200-1902414600@www.fccofap.com
SUMMARY:Spanish Language Service
DESCRIPTION:Ven y adora a Dios con oración\, alabanzas y cantos.
URL:https://www.fccofap.com/event/spanish-language-service/2030-04-14/
LOCATION:FCC AP\, 337 West Nelson\, AransasPass\, TX\, 78336\, United States
END:VEVENT
BEGIN:VEVENT
DTSTART;TZID=America/Chicago:20300421T150000
DTEND;TZID=America/Chicago:20300421T163000
DTSTAMP:20260419T145503
CREATED:20250619T211010Z
LAST-MODIFIED:20250619T211010Z
UID:10001622-1903014000-1903019400@www.fccofap.com
SUMMARY:Spanish Language Service
DESCRIPTION:Ven y adora a Dios con oración\, alabanzas y cantos.
URL:https://www.fccofap.com/event/spanish-language-service/2030-04-21/
LOCATION:FCC AP\, 337 West Nelson\, AransasPass\, TX\, 78336\, United States
END:VEVENT
BEGIN:VEVENT
DTSTART;TZID=America/Chicago:20300428T150000
DTEND;TZID=America/Chicago:20300428T163000
DTSTAMP:20260419T145503
CREATED:20250619T211010Z
LAST-MODIFIED:20250619T211010Z
UID:10001623-1903618800-1903624200@www.fccofap.com
SUMMARY:Spanish Language Service
DESCRIPTION:Ven y adora a Dios con oración\, alabanzas y cantos.
URL:https://www.fccofap.com/event/spanish-language-service/2030-04-28/
LOCATION:FCC AP\, 337 West Nelson\, AransasPass\, TX\, 78336\, United States
END:VEVENT
BEGIN:VEVENT
DTSTART;TZID=America/Chicago:20300505T150000
DTEND;TZID=America/Chicago:20300505T163000
DTSTAMP:20260419T145503
CREATED:20250619T211010Z
LAST-MODIFIED:20250619T211010Z
UID:10001624-1904223600-1904229000@www.fccofap.com
SUMMARY:Spanish Language Service
DESCRIPTION:Ven y adora a Dios con oración\, alabanzas y cantos.
URL:https://www.fccofap.com/event/spanish-language-service/2030-05-05/
LOCATION:FCC AP\, 337 West Nelson\, AransasPass\, TX\, 78336\, United States
END:VEVENT
BEGIN:VEVENT
DTSTART;TZID=America/Chicago:20300512T150000
DTEND;TZID=America/Chicago:20300512T163000
DTSTAMP:20260419T145503
CREATED:20250619T211010Z
LAST-MODIFIED:20250619T211010Z
UID:10001625-1904828400-1904833800@www.fccofap.com
SUMMARY:Spanish Language Service
DESCRIPTION:Ven y adora a Dios con oración\, alabanzas y cantos.
URL:https://www.fccofap.com/event/spanish-language-service/2030-05-12/
LOCATION:FCC AP\, 337 West Nelson\, AransasPass\, TX\, 78336\, United States
END:VEVENT
BEGIN:VEVENT
DTSTART;TZID=America/Chicago:20300519T150000
DTEND;TZID=America/Chicago:20300519T163000
DTSTAMP:20260419T145503
CREATED:20250619T211010Z
LAST-MODIFIED:20250619T211010Z
UID:10001626-1905433200-1905438600@www.fccofap.com
SUMMARY:Spanish Language Service
DESCRIPTION:Ven y adora a Dios con oración\, alabanzas y cantos.
URL:https://www.fccofap.com/event/spanish-language-service/2030-05-19/
LOCATION:FCC AP\, 337 West Nelson\, AransasPass\, TX\, 78336\, United States
END:VEVENT
BEGIN:VEVENT
DTSTART;TZID=America/Chicago:20300526T150000
DTEND;TZID=America/Chicago:20300526T163000
DTSTAMP:20260419T145503
CREATED:20250619T211010Z
LAST-MODIFIED:20250619T211010Z
UID:10001627-1906038000-1906043400@www.fccofap.com
SUMMARY:Spanish Language Service
DESCRIPTION:Ven y adora a Dios con oración\, alabanzas y cantos.
URL:https://www.fccofap.com/event/spanish-language-service/2030-05-26/
LOCATION:FCC AP\, 337 West Nelson\, AransasPass\, TX\, 78336\, United States
END:VEVENT
BEGIN:VEVENT
DTSTART;TZID=America/Chicago:20300602T150000
DTEND;TZID=America/Chicago:20300602T163000
DTSTAMP:20260419T145503
CREATED:20250619T211010Z
LAST-MODIFIED:20250619T211010Z
UID:10001628-1906642800-1906648200@www.fccofap.com
SUMMARY:Spanish Language Service
DESCRIPTION:Ven y adora a Dios con oración\, alabanzas y cantos.
URL:https://www.fccofap.com/event/spanish-language-service/2030-06-02/
LOCATION:FCC AP\, 337 West Nelson\, AransasPass\, TX\, 78336\, United States
END:VEVENT
BEGIN:VEVENT
DTSTART;TZID=America/Chicago:20300609T150000
DTEND;TZID=America/Chicago:20300609T163000
DTSTAMP:20260419T145503
CREATED:20250619T211010Z
LAST-MODIFIED:20250619T211010Z
UID:10001629-1907247600-1907253000@www.fccofap.com
SUMMARY:Spanish Language Service
DESCRIPTION:Ven y adora a Dios con oración\, alabanzas y cantos.
URL:https://www.fccofap.com/event/spanish-language-service/2030-06-09/
LOCATION:FCC AP\, 337 West Nelson\, AransasPass\, TX\, 78336\, United States
END:VEVENT
BEGIN:VEVENT
DTSTART;TZID=America/Chicago:20300616T150000
DTEND;TZID=America/Chicago:20300616T163000
DTSTAMP:20260419T145503
CREATED:20250619T211010Z
LAST-MODIFIED:20250619T211010Z
UID:10001630-1907852400-1907857800@www.fccofap.com
SUMMARY:Spanish Language Service
DESCRIPTION:Ven y adora a Dios con oración\, alabanzas y cantos.
URL:https://www.fccofap.com/event/spanish-language-service/2030-06-16/
LOCATION:FCC AP\, 337 West Nelson\, AransasPass\, TX\, 78336\, United States
END:VEVENT
END:VCALENDAR